BEGIN:VCALENDAR
VERSION:2.0
PRODID:-//Tourism Rossland - ECPv6.15.12.2//NONSGML v1.0//EN
CALSCALE:GREGORIAN
METHOD:PUBLISH
X-ORIGINAL-URL:https://www.tourismrossland.com
X-WR-CALDESC:Events for Tourism Rossland
REFRESH-INTERVAL;VALUE=DURATION:PT1H
X-Robots-Tag:noindex
X-PUBLISHED-TTL:PT1H
BEGIN:VTIMEZONE
TZID:America/Edmonton
BEGIN:DAYLIGHT
TZOFFSETFROM:-0700
TZOFFSETTO:-0600
TZNAME:MDT
DTSTART:20240310T090000
END:DAYLIGHT
BEGIN:STANDARD
TZOFFSETFROM:-0600
TZOFFSETTO:-0700
TZNAME:MST
DTSTART:20241103T080000
END:STANDARD
BEGIN:DAYLIGHT
TZOFFSETFROM:-0700
TZOFFSETTO:-0600
TZNAME:MDT
DTSTART:20250309T090000
END:DAYLIGHT
BEGIN:STANDARD
TZOFFSETFROM:-0600
TZOFFSETTO:-0700
TZNAME:MST
DTSTART:20251102T080000
END:STANDARD
BEGIN:DAYLIGHT
TZOFFSETFROM:-0700
TZOFFSETTO:-0600
TZNAME:MDT
DTSTART:20260308T090000
END:DAYLIGHT
BEGIN:STANDARD
TZOFFSETFROM:-0600
TZOFFSETTO:-0700
TZNAME:MST
DTSTART:20261101T080000
END:STANDARD
BEGIN:DAYLIGHT
TZOFFSETFROM:-0700
TZOFFSETTO:-0600
TZNAME:MDT
DTSTART:20270314T090000
END:DAYLIGHT
BEGIN:STANDARD
TZOFFSETFROM:-0600
TZOFFSETTO:-0700
TZNAME:MST
DTSTART:20271107T080000
END:STANDARD
END:VTIMEZONE
BEGIN:VEVENT
DTSTART;TZID=America/Edmonton:20260331T210000
DTEND;TZID=America/Edmonton:20260331T230000
DTSTAMP:20260419T183631
CREATED:20251111T004823Z
LAST-MODIFIED:20251111T004823Z
UID:10000020-1774990800-1774998000@www.tourismrossland.com
SUMMARY:Name That Tune
DESCRIPTION:Name That Tune is back for another year\, produced by your pals at Altitude Entertainment! \nFirst prize\, win your tab\, runner up prizes are a sur-prise! \nReservations Required
URL:https://www.tourismrossland.com/events/name-that-tune-4/
LOCATION:The Flying Steamshovel\, 2003 2nd Ave\, Rossland\, BC\, V0G 1Y0\, Canada
ATTACH;FMTTYPE=image/webp:https://www.tourismrossland.com/wp-content/uploads/2025/11/namethattune20252026.webp
END:VEVENT
BEGIN:VEVENT
DTSTART;TZID=America/Edmonton:20260304T200000
DTEND;TZID=America/Edmonton:20260304T230000
DTSTAMP:20260419T183632
CREATED:20260223T193310Z
LAST-MODIFIED:20260223T193310Z
UID:10000422-1772654400-1772665200@www.tourismrossland.com
SUMMARY:Uncle Strut w/ Noodle Boys
DESCRIPTION:From dive bar beginnings to sold-out shows nationwide\, Uncle Strut have built their reputation on electrifying live performances\, dynamic storytelling\, and four unmistakable moustaches. \nThe Vancouver-based four-piece – Tyson McNamara (vocals/guitar)\, Simon Tejani (bass/vocals)\, Quincy Flowers (drums/vocals)\, and Jasper Matthias (lead guitar) – have marked 2025 as a year full of milestones. Kicking off their year with a Canadian tour spanning fifteen cities\, culminating in a sold-out show at Vancouver’s historic Hollywood Theatre. In May\, the band also celebrated the release of their debut full-length LP\, Home At Last – which has garnered over 2\,000\,000 streams worldwide. \nUncle Strut is a project built on inclusivity\, friendship\, fun\, and love – a band where everyone is welcome\, and there will always be a home for you here.
URL:https://www.tourismrossland.com/events/uncle-strut-w-noodle-boys/
LOCATION:The Flying Steamshovel\, 2003 2nd Ave\, Rossland\, BC\, V0G 1Y0\, Canada
ATTACH;FMTTYPE=image/jpeg:https://www.tourismrossland.com/wp-content/uploads/2026/02/uncle-strut.jpg
END:VEVENT
BEGIN:VEVENT
DTSTART;TZID=America/Edmonton:20260217T210000
DTEND;TZID=America/Edmonton:20260217T230000
DTSTAMP:20260419T183632
CREATED:20251111T004716Z
LAST-MODIFIED:20251111T004716Z
UID:10000019-1771362000-1771369200@www.tourismrossland.com
SUMMARY:Name That Tune
DESCRIPTION:Name That Tune is back for another year\, produced by your pals at Altitude Entertainment! \nFirst prize\, win your tab\, runner up prizes are a sur-prise! \nReservations Required
URL:https://www.tourismrossland.com/events/name-that-tune-3/
LOCATION:The Flying Steamshovel\, 2003 2nd Ave\, Rossland\, BC\, V0G 1Y0\, Canada
ATTACH;FMTTYPE=image/webp:https://www.tourismrossland.com/wp-content/uploads/2025/11/namethattune20252026.webp
END:VEVENT
BEGIN:VEVENT
DTSTART;TZID=America/Edmonton:20260113T210000
DTEND;TZID=America/Edmonton:20260113T230000
DTSTAMP:20260419T183632
CREATED:20251111T004556Z
LAST-MODIFIED:20251111T004556Z
UID:10000018-1768338000-1768345200@www.tourismrossland.com
SUMMARY:Name That Tune
DESCRIPTION:Name That Tune is back for another year\, produced by your pals at Altitude Entertainment! \nFirst prize\, win your tab\, runner up prizes are a sur-prise! \nReservations Required
URL:https://www.tourismrossland.com/events/name-that-tune-2/
LOCATION:The Flying Steamshovel\, 2003 2nd Ave\, Rossland\, BC\, V0G 1Y0\, Canada
ATTACH;FMTTYPE=image/webp:https://www.tourismrossland.com/wp-content/uploads/2025/11/namethattune20252026.webp
END:VEVENT
BEGIN:VEVENT
DTSTART;TZID=America/Edmonton:20251231T210000
DTEND;TZID=America/Edmonton:20251231T235900
DTSTAMP:20260419T183632
CREATED:20251215T234324Z
LAST-MODIFIED:20251215T235031Z
UID:10000313-1767214800-1767225540@www.tourismrossland.com
SUMMARY:Heavy Airship | Led Zeppelin Tribute
DESCRIPTION:Bring in the New Year with Western Canada’s Premier Led Zeppelin tribute band! \nDoors @ 9pm\nShow @ 10pm\nAll Tickets $25\n19+
URL:https://www.tourismrossland.com/events/heavy-airship-led-zeppelin-tribute/
LOCATION:The Flying Steamshovel\, 2003 2nd Ave\, Rossland\, BC\, V0G 1Y0\, Canada
ATTACH;FMTTYPE=image/webp:https://www.tourismrossland.com/wp-content/uploads/2025/12/596097308_1455309226595242_1401306808403165292_n.webp
END:VEVENT
BEGIN:VEVENT
DTSTART;TZID=America/Edmonton:20251226T210000
DTEND;TZID=America/Edmonton:20251226T235900
DTSTAMP:20260419T183632
CREATED:20251215T234731Z
LAST-MODIFIED:20251215T234731Z
UID:10000312-1766782800-1766793540@www.tourismrossland.com
SUMMARY:Boxing Day Classic After Party
DESCRIPTION:Don’t miss the hottest party off the ice. The Flying Steamshovel is hosting the official after party for the Boxing Day Classic. \nLive Music starting at 10pm.
URL:https://www.tourismrossland.com/events/boxing-day-classic-after-party/
LOCATION:The Flying Steamshovel\, 2003 2nd Ave\, Rossland\, BC\, V0G 1Y0\, Canada
ATTACH;FMTTYPE=image/webp:https://www.tourismrossland.com/wp-content/uploads/2025/12/img_5296.webp
END:VEVENT
BEGIN:VEVENT
DTSTART;TZID=America/Edmonton:20251216T210000
DTEND;TZID=America/Edmonton:20251216T230000
DTSTAMP:20260419T183632
CREATED:20251111T004219Z
LAST-MODIFIED:20251111T004219Z
UID:10000017-1765918800-1765926000@www.tourismrossland.com
SUMMARY:Name That Tune
DESCRIPTION:Name That Tune is back for another year\, produced by your pals at Altitude Entertainment! \nFirst prize\, win your tab\, runner up prizes are a sur-prise! \nReservations Required
URL:https://www.tourismrossland.com/events/name-that-tune/
LOCATION:The Flying Steamshovel\, 2003 2nd Ave\, Rossland\, BC\, V0G 1Y0\, Canada
ATTACH;FMTTYPE=image/webp:https://www.tourismrossland.com/wp-content/uploads/2025/11/namethattune20252026.webp
END:VEVENT
BEGIN:VEVENT
DTSTART;TZID=America/Edmonton:20251213T210000
DTEND;TZID=America/Edmonton:20251213T233000
DTSTAMP:20260419T183632
CREATED:20251111T003813Z
LAST-MODIFIED:20251111T003813Z
UID:10000016-1765659600-1765668600@www.tourismrossland.com
SUMMARY:Stubbs & The
DESCRIPTION:Small town mountain band from right here in Ross Vegas! One genre can’t encompass it all\, check out the show for an experience like none other. \nAll original theatrical rock world music straight out of the Kootenays.
URL:https://www.tourismrossland.com/events/stubbs-the/
LOCATION:The Flying Steamshovel\, 2003 2nd Ave\, Rossland\, BC\, V0G 1Y0\, Canada
ATTACH;FMTTYPE=image/webp:https://www.tourismrossland.com/wp-content/uploads/2025/11/571982628_1424831019643063_2222716043427603693_n.webp
END:VEVENT
BEGIN:VEVENT
DTSTART;TZID=America/Edmonton:20251206T210000
DTEND;TZID=America/Edmonton:20251206T230000
DTSTAMP:20260419T183632
CREATED:20251111T003538Z
LAST-MODIFIED:20251111T003538Z
UID:10000015-1765054800-1765062000@www.tourismrossland.com
SUMMARY:Off the Grid - Jazz | Funk | Horns
DESCRIPTION:Off the Grid is a Kootenay based group that brings a wide range of musical influences spanning multiple styles including jazz\, funk\, rock and fusion to every element of their playing. Tight ensemble playing and synergetic interplay together with high energy\, furiously funky and blistering bop lines resonate throughout every performance.
URL:https://www.tourismrossland.com/events/off-the-grid-jazz-funk-horns/
LOCATION:The Flying Steamshovel\, 2003 2nd Ave\, Rossland\, BC\, V0G 1Y0\, Canada
ATTACH;FMTTYPE=image/jpeg:https://www.tourismrossland.com/wp-content/uploads/2025/11/yoel-j-gonzalez-nf3ko-k2tpi-unsplash-scaled.jpg
END:VEVENT
BEGIN:VEVENT
DTSTART;TZID=America/Edmonton:20251205T210000
DTEND;TZID=America/Edmonton:20251205T233000
DTSTAMP:20260419T183632
CREATED:20251111T003009Z
LAST-MODIFIED:20251111T003009Z
UID:10000014-1764968400-1764977400@www.tourismrossland.com
SUMMARY:Handsome Tiger w/ DJ Dubconscious
DESCRIPTION:Handsome Tiger is an Anishinaabe Métis and North African producer/DJ from Turtle Island\, now based in Vancouver\, BC. Blending traditional sounds from his heritage with contemporary bass and electronic music\, he’s a fixture in the West Coast scene and a favourite on the North American festival circuit — from Bass Coast to Shambhala. His sets pulse with global bass energy\, igniting dance floors wherever he plays.
URL:https://www.tourismrossland.com/events/handsome-tiger-w-dj-dubconscious/
LOCATION:The Flying Steamshovel\, 2003 2nd Ave\, Rossland\, BC\, V0G 1Y0\, Canada
ATTACH;FMTTYPE=image/webp:https://www.tourismrossland.com/wp-content/uploads/2025/11/569298726_1417801923679306_1364207015362099633_n.webp.webp
END:VEVENT
END:VCALENDAR