BEGIN:VCALENDAR
VERSION:2.0
PRODID:-//Tourism Rossland - ECPv6.15.12.2//NONSGML v1.0//EN
CALSCALE:GREGORIAN
METHOD:PUBLISH
X-ORIGINAL-URL:https://www.tourismrossland.com
X-WR-CALDESC:Events for Tourism Rossland
REFRESH-INTERVAL;VALUE=DURATION:PT1H
X-Robots-Tag:noindex
X-PUBLISHED-TTL:PT1H
BEGIN:VTIMEZONE
TZID:America/Edmonton
BEGIN:DAYLIGHT
TZOFFSETFROM:-0700
TZOFFSETTO:-0600
TZNAME:MDT
DTSTART:20250309T090000
END:DAYLIGHT
BEGIN:STANDARD
TZOFFSETFROM:-0600
TZOFFSETTO:-0700
TZNAME:MST
DTSTART:20251102T080000
END:STANDARD
BEGIN:DAYLIGHT
TZOFFSETFROM:-0700
TZOFFSETTO:-0600
TZNAME:MDT
DTSTART:20260308T090000
END:DAYLIGHT
BEGIN:STANDARD
TZOFFSETFROM:-0600
TZOFFSETTO:-0700
TZNAME:MST
DTSTART:20261101T080000
END:STANDARD
BEGIN:DAYLIGHT
TZOFFSETFROM:-0700
TZOFFSETTO:-0600
TZNAME:MDT
DTSTART:20270314T090000
END:DAYLIGHT
BEGIN:STANDARD
TZOFFSETFROM:-0600
TZOFFSETTO:-0700
TZNAME:MST
DTSTART:20271107T080000
END:STANDARD
END:VTIMEZONE
BEGIN:VEVENT
DTSTART;TZID=America/Edmonton:20260418T140000
DTEND;TZID=America/Edmonton:20260418T153000
DTSTAMP:20260419T132300
CREATED:20260323T174610Z
LAST-MODIFIED:20260323T174610Z
UID:10000717-1776520800-1776526200@www.tourismrossland.com
SUMMARY:Youth Character Creation Workshop
DESCRIPTION:The Rossland Library is hosting a Youth Character Creation Workshop with local author and illustrator Melissa Haney. \nLearn about the creative process behind graphic novels\, get tips for designing memorable characters\, and bring your own ideas to life through drawing and storytelling.
URL:https://www.tourismrossland.com/events/youth-character-creation-workshop/
LOCATION:Rossland Public Library\, 2180 Columbia Avenue\, Rossland\, BC\, V0G 1Y0\, Canada
ATTACH;FMTTYPE=image/png:https://www.tourismrossland.com/wp-content/uploads/2026/03/youth-comic-workshop-1.png
END:VEVENT
BEGIN:VEVENT
DTSTART;TZID=America/Edmonton:20260411T110000
DTEND;TZID=America/Edmonton:20260411T123000
DTSTAMP:20260419T132300
CREATED:20260323T174647Z
LAST-MODIFIED:20260323T174647Z
UID:10000718-1775905200-1775910600@www.tourismrossland.com
SUMMARY:Kombucha Basics
DESCRIPTION:Join Kombucha Basics with Catherine at the Rossland Library for an introduction to brewing your own kombucha at home. This workshop will cover the fermentation process\, how to care for a SCOBY\, flavouring ideas\, and helpful tips for safe and successful brewing.
URL:https://www.tourismrossland.com/events/kombucha-basics/
LOCATION:Rossland Public Library\, 2180 Columbia Avenue\, Rossland\, BC\, V0G 1Y0\, Canada
ATTACH;FMTTYPE=image/png:https://www.tourismrossland.com/wp-content/uploads/2026/03/kombucha-basics-1.png
END:VEVENT
BEGIN:VEVENT
DTSTART;TZID=America/Edmonton:20260319T173000
DTEND;TZID=America/Edmonton:20260319T193000
DTSTAMP:20260419T132300
CREATED:20260108T192743Z
LAST-MODIFIED:20260108T192743Z
UID:10000381-1773941400-1773948600@www.tourismrossland.com
SUMMARY:Rude Crafting
DESCRIPTION:Rude Crafting – Adult Program (18+)\nLooking for a creative outlet with a cheeky twist? Join us for Rude Crafting\, an adults-only crafting program where you can stitch\, paint\, and design delightfully irreverent creations in a relaxed\, judgment-free space. Bring your sense of humour and let your creativity run wild! \nWhether you’re into snarky cross-stitch\, sarcastic collage\, or boldly rude decorative art\, this drop-in program is all about having fun and expressing yourself. \nWhen:\nJanuary – March \nSaturday\, Jan 10: 2:00–4:00pm \nThursday\, Jan 22: 5:30–7:30pm \nSaturday\, Feb 7: 2:00–4:00pm \nThursday\, Feb 19: 5:30–7:30pm \nSaturday\, March 7: 2:00–4:00pm \nThursday\, March 19: 5:30–7:30pm \nWhere: Rossland Public Library \nAge: Adults 18+ \nDrop in or register online on our website
URL:https://www.tourismrossland.com/events/rude-crafting/2026-03-19/
LOCATION:Rossland Public Library\, 2180 Columbia Avenue\, Rossland\, BC\, V0G 1Y0\, Canada
ATTACH;FMTTYPE=image/png:https://www.tourismrossland.com/wp-content/uploads/2026/01/rude-crafting-2.png
END:VEVENT
BEGIN:VEVENT
DTSTART;TZID=America/Edmonton:20260307T140000
DTEND;TZID=America/Edmonton:20260307T160000
DTSTAMP:20260419T132300
CREATED:20260108T192743Z
LAST-MODIFIED:20260108T192743Z
UID:10000380-1772892000-1772899200@www.tourismrossland.com
SUMMARY:Rude Crafting
DESCRIPTION:Rude Crafting – Adult Program (18+)\nLooking for a creative outlet with a cheeky twist? Join us for Rude Crafting\, an adults-only crafting program where you can stitch\, paint\, and design delightfully irreverent creations in a relaxed\, judgment-free space. Bring your sense of humour and let your creativity run wild! \nWhether you’re into snarky cross-stitch\, sarcastic collage\, or boldly rude decorative art\, this drop-in program is all about having fun and expressing yourself. \nWhen:\nJanuary – March \nSaturday\, Jan 10: 2:00–4:00pm \nThursday\, Jan 22: 5:30–7:30pm \nSaturday\, Feb 7: 2:00–4:00pm \nThursday\, Feb 19: 5:30–7:30pm \nSaturday\, March 7: 2:00–4:00pm \nThursday\, March 19: 5:30–7:30pm \nWhere: Rossland Public Library \nAge: Adults 18+ \nDrop in or register online on our website
URL:https://www.tourismrossland.com/events/rude-crafting/2026-03-07/
LOCATION:Rossland Public Library\, 2180 Columbia Avenue\, Rossland\, BC\, V0G 1Y0\, Canada
ATTACH;FMTTYPE=image/png:https://www.tourismrossland.com/wp-content/uploads/2026/01/rude-crafting-2.png
END:VEVENT
BEGIN:VEVENT
DTSTART;TZID=America/Edmonton:20260219T173000
DTEND;TZID=America/Edmonton:20260219T193000
DTSTAMP:20260419T132300
CREATED:20260108T192743Z
LAST-MODIFIED:20260108T192743Z
UID:10000379-1771522200-1771529400@www.tourismrossland.com
SUMMARY:Rude Crafting
DESCRIPTION:Rude Crafting – Adult Program (18+)\nLooking for a creative outlet with a cheeky twist? Join us for Rude Crafting\, an adults-only crafting program where you can stitch\, paint\, and design delightfully irreverent creations in a relaxed\, judgment-free space. Bring your sense of humour and let your creativity run wild! \nWhether you’re into snarky cross-stitch\, sarcastic collage\, or boldly rude decorative art\, this drop-in program is all about having fun and expressing yourself. \nWhen:\nJanuary – March \nSaturday\, Jan 10: 2:00–4:00pm \nThursday\, Jan 22: 5:30–7:30pm \nSaturday\, Feb 7: 2:00–4:00pm \nThursday\, Feb 19: 5:30–7:30pm \nSaturday\, March 7: 2:00–4:00pm \nThursday\, March 19: 5:30–7:30pm \nWhere: Rossland Public Library \nAge: Adults 18+ \nDrop in or register online on our website
URL:https://www.tourismrossland.com/events/rude-crafting/2026-02-19/
LOCATION:Rossland Public Library\, 2180 Columbia Avenue\, Rossland\, BC\, V0G 1Y0\, Canada
ATTACH;FMTTYPE=image/png:https://www.tourismrossland.com/wp-content/uploads/2026/01/rude-crafting-2.png
END:VEVENT
BEGIN:VEVENT
DTSTART;TZID=America/Edmonton:20260207T140000
DTEND;TZID=America/Edmonton:20260207T160000
DTSTAMP:20260419T132300
CREATED:20260108T192743Z
LAST-MODIFIED:20260108T192743Z
UID:10000378-1770472800-1770480000@www.tourismrossland.com
SUMMARY:Rude Crafting
DESCRIPTION:Rude Crafting – Adult Program (18+)\nLooking for a creative outlet with a cheeky twist? Join us for Rude Crafting\, an adults-only crafting program where you can stitch\, paint\, and design delightfully irreverent creations in a relaxed\, judgment-free space. Bring your sense of humour and let your creativity run wild! \nWhether you’re into snarky cross-stitch\, sarcastic collage\, or boldly rude decorative art\, this drop-in program is all about having fun and expressing yourself. \nWhen:\nJanuary – March \nSaturday\, Jan 10: 2:00–4:00pm \nThursday\, Jan 22: 5:30–7:30pm \nSaturday\, Feb 7: 2:00–4:00pm \nThursday\, Feb 19: 5:30–7:30pm \nSaturday\, March 7: 2:00–4:00pm \nThursday\, March 19: 5:30–7:30pm \nWhere: Rossland Public Library \nAge: Adults 18+ \nDrop in or register online on our website
URL:https://www.tourismrossland.com/events/rude-crafting/2026-02-07/
LOCATION:Rossland Public Library\, 2180 Columbia Avenue\, Rossland\, BC\, V0G 1Y0\, Canada
ATTACH;FMTTYPE=image/png:https://www.tourismrossland.com/wp-content/uploads/2026/01/rude-crafting-2.png
END:VEVENT
BEGIN:VEVENT
DTSTART;TZID=America/Edmonton:20260205T173000
DTEND;TZID=America/Edmonton:20260205T190000
DTSTAMP:20260419T132300
CREATED:20260108T193028Z
LAST-MODIFIED:20260108T193028Z
UID:10000395-1770312600-1770318000@www.tourismrossland.com
SUMMARY:Sourdough Basics
DESCRIPTION:Sourdough Basics with Tanya: \nCurious about sourdough? Join us for a hands-on Sourdough Basics class with Tanya! Learn essential techniques\, helpful tricks\, and tips to get your sourdough journey started—all in a relaxed\, fun environment. \n📅 Thursday\, February 5\n⏰ 5:30 PM\n📍 Rossland Library\n👥 Ages 16+ \nNo prior experience required—just bring your curiosity and love of bread!\nRegistration needed.
URL:https://www.tourismrossland.com/events/sourdough-basics/
LOCATION:Rossland Public Library\, 2180 Columbia Avenue\, Rossland\, BC\, V0G 1Y0\, Canada
ATTACH;FMTTYPE=image/png:https://www.tourismrossland.com/wp-content/uploads/2026/01/sourdough-6.png
END:VEVENT
BEGIN:VEVENT
DTSTART;TZID=America/Edmonton:20260123T140000
DTEND;TZID=America/Edmonton:20260123T160000
DTSTAMP:20260419T132300
CREATED:20251218T195611Z
LAST-MODIFIED:20251218T195611Z
UID:10000315-1769176800-1769184000@www.tourismrossland.com
SUMMARY:Author Event with Brett Popplewell
DESCRIPTION:Join Rossland Public Library and Gold Rush Bookstore for a special Winter Carnival author event with award-winning writer Brett Popplewell. \nPopplewell will be sharing stories and insights from his national bestselling book Outsider: An Old Man\, a Mountain and the Search for a Hidden Past—the remarkable true story of marathon-running hermit Dag Aabye\, former stuntman\, extreme skier\, and mountain legend. \nCome hear how this unforgettable book came to be\, learn more about Aabye’s extraordinary life in the mountains\, and take part in a conversation about endurance\, solitude\, and what it means to live life on your own terms. \n📅 Friday\, January 23\, 2026🕑 2:00 PM📍 Rossland Public Library \nBooks will be available through Gold Rush Bookstore.
URL:https://www.tourismrossland.com/events/author-event-with-brett-popplewell/
LOCATION:Rossland Public Library\, 2180 Columbia Avenue\, Rossland\, BC\, V0G 1Y0\, Canada
ATTACH;FMTTYPE=image/jpeg:https://www.tourismrossland.com/wp-content/uploads/2025/12/8b54fdc4-3429-45f1-a026-b08417e14f61_1_105_c.jpg
END:VEVENT
BEGIN:VEVENT
DTSTART;TZID=America/Edmonton:20260122T173000
DTEND;TZID=America/Edmonton:20260122T193000
DTSTAMP:20260419T132300
CREATED:20260108T192743Z
LAST-MODIFIED:20260108T192743Z
UID:10000377-1769103000-1769110200@www.tourismrossland.com
SUMMARY:Rude Crafting
DESCRIPTION:Rude Crafting – Adult Program (18+)\nLooking for a creative outlet with a cheeky twist? Join us for Rude Crafting\, an adults-only crafting program where you can stitch\, paint\, and design delightfully irreverent creations in a relaxed\, judgment-free space. Bring your sense of humour and let your creativity run wild! \nWhether you’re into snarky cross-stitch\, sarcastic collage\, or boldly rude decorative art\, this drop-in program is all about having fun and expressing yourself. \nWhen:\nJanuary – March \nSaturday\, Jan 10: 2:00–4:00pm \nThursday\, Jan 22: 5:30–7:30pm \nSaturday\, Feb 7: 2:00–4:00pm \nThursday\, Feb 19: 5:30–7:30pm \nSaturday\, March 7: 2:00–4:00pm \nThursday\, March 19: 5:30–7:30pm \nWhere: Rossland Public Library \nAge: Adults 18+ \nDrop in or register online on our website
URL:https://www.tourismrossland.com/events/rude-crafting/2026-01-22/
LOCATION:Rossland Public Library\, 2180 Columbia Avenue\, Rossland\, BC\, V0G 1Y0\, Canada
ATTACH;FMTTYPE=image/png:https://www.tourismrossland.com/wp-content/uploads/2026/01/rude-crafting-2.png
END:VEVENT
BEGIN:VEVENT
DTSTART;TZID=America/Edmonton:20260117T130000
DTEND;TZID=America/Edmonton:20260117T153000
DTSTAMP:20260419T132300
CREATED:20260108T192836Z
LAST-MODIFIED:20260108T192836Z
UID:10000391-1768654800-1768663800@www.tourismrossland.com
SUMMARY:Mending Workshop
DESCRIPTION:Mending with Helen James\nSaturday\, January 17th at 1:00pm\nAt the Rossland Public Library \nLearn practical sewing skills that will help you extend the life of your favourite clothes! Join local instructor Helen James for a hands-on workshop focused on mending denim and replacing zippers using your own sewing machine. \nThis session is ideal for anyone wanting to reduce waste\, save money\, and gain confidence repairing their own garments.\nSome previous sewing machine experience is recommended. \nDetails:\nBring your own sewing machine\nSome sewing experience required\nFor ages 16+\nRegistration required
URL:https://www.tourismrossland.com/events/mending-workshop/
LOCATION:Rossland Public Library\, 2180 Columbia Avenue\, Rossland\, BC\, V0G 1Y0\, Canada
ATTACH;FMTTYPE=image/png:https://www.tourismrossland.com/wp-content/uploads/2026/01/mending-with-helen-james-4.png
END:VEVENT
BEGIN:VEVENT
DTSTART;TZID=America/Edmonton:20260110T140000
DTEND;TZID=America/Edmonton:20260110T160000
DTSTAMP:20260419T132300
CREATED:20260108T192743Z
LAST-MODIFIED:20260108T192743Z
UID:10000376-1768053600-1768060800@www.tourismrossland.com
SUMMARY:Rude Crafting
DESCRIPTION:Rude Crafting – Adult Program (18+)\nLooking for a creative outlet with a cheeky twist? Join us for Rude Crafting\, an adults-only crafting program where you can stitch\, paint\, and design delightfully irreverent creations in a relaxed\, judgment-free space. Bring your sense of humour and let your creativity run wild! \nWhether you’re into snarky cross-stitch\, sarcastic collage\, or boldly rude decorative art\, this drop-in program is all about having fun and expressing yourself. \nWhen:\nJanuary – March \nSaturday\, Jan 10: 2:00–4:00pm \nThursday\, Jan 22: 5:30–7:30pm \nSaturday\, Feb 7: 2:00–4:00pm \nThursday\, Feb 19: 5:30–7:30pm \nSaturday\, March 7: 2:00–4:00pm \nThursday\, March 19: 5:30–7:30pm \nWhere: Rossland Public Library \nAge: Adults 18+ \nDrop in or register online on our website
URL:https://www.tourismrossland.com/events/rude-crafting/2026-01-10/
LOCATION:Rossland Public Library\, 2180 Columbia Avenue\, Rossland\, BC\, V0G 1Y0\, Canada
ATTACH;FMTTYPE=image/png:https://www.tourismrossland.com/wp-content/uploads/2026/01/rude-crafting-2.png
END:VEVENT
END:VCALENDAR