BEGIN:VCALENDAR
VERSION:2.0
PRODID:-//Tourism Rossland - ECPv6.15.12.2//NONSGML v1.0//EN
CALSCALE:GREGORIAN
METHOD:PUBLISH
X-ORIGINAL-URL:https://www.tourismrossland.com
X-WR-CALDESC:Events for Tourism Rossland
REFRESH-INTERVAL;VALUE=DURATION:PT1H
X-Robots-Tag:noindex
X-PUBLISHED-TTL:PT1H
BEGIN:VTIMEZONE
TZID:America/Edmonton
BEGIN:DAYLIGHT
TZOFFSETFROM:-0700
TZOFFSETTO:-0600
TZNAME:MDT
DTSTART:20240310T090000
END:DAYLIGHT
BEGIN:STANDARD
TZOFFSETFROM:-0600
TZOFFSETTO:-0700
TZNAME:MST
DTSTART:20241103T080000
END:STANDARD
BEGIN:DAYLIGHT
TZOFFSETFROM:-0700
TZOFFSETTO:-0600
TZNAME:MDT
DTSTART:20250309T090000
END:DAYLIGHT
BEGIN:STANDARD
TZOFFSETFROM:-0600
TZOFFSETTO:-0700
TZNAME:MST
DTSTART:20251102T080000
END:STANDARD
BEGIN:DAYLIGHT
TZOFFSETFROM:-0700
TZOFFSETTO:-0600
TZNAME:MDT
DTSTART:20260308T090000
END:DAYLIGHT
BEGIN:STANDARD
TZOFFSETFROM:-0600
TZOFFSETTO:-0700
TZNAME:MST
DTSTART:20261101T080000
END:STANDARD
END:VTIMEZONE
BEGIN:VEVENT
DTSTART;TZID=America/Edmonton:20251226T170000
DTEND;TZID=America/Edmonton:20251226T200000
DTSTAMP:20260421T170109
CREATED:20251211T202027Z
LAST-MODIFIED:20251211T202027Z
UID:10000045-1766768400-1766779200@www.tourismrossland.com
SUMMARY:UCRA Mountain String Band
DESCRIPTION:Fine Home-grown Kootenay Greygrass Tunes!
URL:https://www.tourismrossland.com/events/ucra-mountain-string-band/
LOCATION:Rossland Beer Co\, 1990F Columbia Ave\, Rossland\, BC\, V0G 1Y0\, Canada
ATTACH;FMTTYPE=image/jpeg:https://www.tourismrossland.com/wp-content/uploads/2025/12/ucramountainstringband.jpg
END:VEVENT
BEGIN:VEVENT
DTSTART;TZID=America/Edmonton:20251219T170000
DTEND;TZID=America/Edmonton:20251219T190000
DTSTAMP:20260421T170109
CREATED:20251211T200629Z
LAST-MODIFIED:20251211T200629Z
UID:10000043-1766163600-1766170800@www.tourismrossland.com
SUMMARY:Gaber & Sue
DESCRIPTION:Grab a pint and enjoy some free live music with two local musicians!
URL:https://www.tourismrossland.com/events/gaber-sue/
LOCATION:Rossland Beer Co\, 1990F Columbia Ave\, Rossland\, BC\, V0G 1Y0\, Canada
ATTACH;FMTTYPE=image/jpeg:https://www.tourismrossland.com/wp-content/uploads/2025/12/img_3084-e1765483566364.jpg
END:VEVENT
END:VCALENDAR