BEGIN:VCALENDAR
VERSION:2.0
PRODID:-//Tourism Rossland - ECPv6.15.12.2//NONSGML v1.0//EN
CALSCALE:GREGORIAN
METHOD:PUBLISH
X-WR-CALNAME:Tourism Rossland
X-ORIGINAL-URL:https://www.tourismrossland.com
X-WR-CALDESC:Events for Tourism Rossland
REFRESH-INTERVAL;VALUE=DURATION:PT1H
X-Robots-Tag:noindex
X-PUBLISHED-TTL:PT1H
BEGIN:VTIMEZONE
TZID:America/Edmonton
BEGIN:DAYLIGHT
TZOFFSETFROM:-0700
TZOFFSETTO:-0600
TZNAME:MDT
DTSTART:20250309T090000
END:DAYLIGHT
BEGIN:STANDARD
TZOFFSETFROM:-0600
TZOFFSETTO:-0700
TZNAME:MST
DTSTART:20251102T080000
END:STANDARD
BEGIN:DAYLIGHT
TZOFFSETFROM:-0700
TZOFFSETTO:-0600
TZNAME:MDT
DTSTART:20260308T090000
END:DAYLIGHT
BEGIN:STANDARD
TZOFFSETFROM:-0600
TZOFFSETTO:-0700
TZNAME:MST
DTSTART:20261101T080000
END:STANDARD
BEGIN:DAYLIGHT
TZOFFSETFROM:-0700
TZOFFSETTO:-0600
TZNAME:MDT
DTSTART:20270314T090000
END:DAYLIGHT
BEGIN:STANDARD
TZOFFSETFROM:-0600
TZOFFSETTO:-0700
TZNAME:MST
DTSTART:20271107T080000
END:STANDARD
END:VTIMEZONE
BEGIN:VEVENT
DTSTART;TZID=America/Edmonton:20260210T170000
DTEND;TZID=America/Edmonton:20260210T220000
DTSTAMP:20260421T090323
CREATED:20260114T164653Z
LAST-MODIFIED:20260114T164653Z
UID:10000404-1770742800-1770760800@www.tourismrossland.com
SUMMARY:Hawksworth Restaurant Take-Over
DESCRIPTION:Celebrated chef\, David Hawksworth\, takes over Donnie’s for one night only on Tuesday\, Feb 10 for a special wine dinner. David will join forces with his former Chef de Cuisine\, Christian Eligh (now Chef at Marilena on Vancouver Island) to create a four‑course dinner menu accompanied by a delicious wine pairing showcasing their culinary collaboration & talents. They will join our culinary & service crew to bring you a memorable meal in a great ambiance \nTickets: $148 per person (applicable taxes & gratuities not included).\nReservations required; multiple seating times available.\nCall 778.457.1736 or email info@donniesbistro.ca to reserve your table.
URL:https://www.tourismrossland.com/events/hawksworth-restaurant-take-over/
LOCATION:Donnie’s Bistro\, 4430 Red Mountain Road #1\, Rossland\, BC\, V0G 1Y0\, Canada
ATTACH;FMTTYPE=image/png:https://www.tourismrossland.com/wp-content/uploads/2026/01/davids-pic.png
END:VEVENT
BEGIN:VEVENT
DTSTART;TZID=America/Edmonton:20260208T153000
DTEND;TZID=America/Edmonton:20260208T180000
DTSTAMP:20260421T090323
CREATED:20260114T165911Z
LAST-MODIFIED:20260114T165911Z
UID:10000407-1770564600-1770573600@www.tourismrossland.com
SUMMARY:Superbowl @ Donnie's Bistro
DESCRIPTION:NFL Superbowl LX is on at Donnie’s starting at 3pm PST. We will have Nibbly Features\, Beer Specials\, and Pitchers of Margaritas!
URL:https://www.tourismrossland.com/events/superbowl-donnies-bistro/
LOCATION:Donnie’s Bistro\, 4430 Red Mountain Road #1\, Rossland\, BC\, V0G 1Y0\, Canada
ATTACH;FMTTYPE=image/jpeg:https://www.tourismrossland.com/wp-content/uploads/2026/01/dave-adamson-xxqnsborcju-unsplash-scaled.jpg
END:VEVENT
BEGIN:VEVENT
DTSTART;TZID=America/Edmonton:20260124T193000
DTEND;TZID=America/Edmonton:20260124T220000
DTSTAMP:20260421T090323
CREATED:20260112T164838Z
LAST-MODIFIED:20260112T164838Z
UID:10000403-1769283000-1769292000@www.tourismrossland.com
SUMMARY:Comedy Night @ Donnie's
DESCRIPTION:Two nights! A full three course dinner and stand up comedy show.\n\n\nWith Sean McDonnell\, Josh Flemming\, and Jordan Wilson \n\n\nDinner at 7:30pm\, show at 8:30pm \n\nTickets $87.75 per person\, includes Dinner\, Comedy show\n(Applicable taxes and gratuities\, also included in the price) There is a $3.25 processing fee per ticket at check out
URL:https://www.tourismrossland.com/events/comedy-night-donnies/2026-01-24/
LOCATION:Donnie’s Bistro\, 4430 Red Mountain Road #1\, Rossland\, BC\, V0G 1Y0\, Canada
ATTACH;FMTTYPE=image/png:https://www.tourismrossland.com/wp-content/uploads/2026/01/screenshot-2026-01-12-at-8.41.48-am.png
END:VEVENT
BEGIN:VEVENT
DTSTART;TZID=America/Edmonton:20260123T193000
DTEND;TZID=America/Edmonton:20260123T220000
DTSTAMP:20260421T090323
CREATED:20260112T164838Z
LAST-MODIFIED:20260112T164838Z
UID:10000402-1769196600-1769205600@www.tourismrossland.com
SUMMARY:Comedy Night @ Donnie's
DESCRIPTION:Two nights! A full three course dinner and stand up comedy show.\n\n\nWith Sean McDonnell\, Josh Flemming\, and Jordan Wilson \n\n\nDinner at 7:30pm\, show at 8:30pm \n\nTickets $87.75 per person\, includes Dinner\, Comedy show\n(Applicable taxes and gratuities\, also included in the price) There is a $3.25 processing fee per ticket at check out
URL:https://www.tourismrossland.com/events/comedy-night-donnies/2026-01-23/
LOCATION:Donnie’s Bistro\, 4430 Red Mountain Road #1\, Rossland\, BC\, V0G 1Y0\, Canada
ATTACH;FMTTYPE=image/png:https://www.tourismrossland.com/wp-content/uploads/2026/01/screenshot-2026-01-12-at-8.41.48-am.png
END:VEVENT
END:VCALENDAR