BEGIN:VCALENDAR
VERSION:2.0
PRODID:-//Tourism Rossland - ECPv6.15.12.2//NONSGML v1.0//EN
CALSCALE:GREGORIAN
METHOD:PUBLISH
X-ORIGINAL-URL:https://www.tourismrossland.com
X-WR-CALDESC:Events for Tourism Rossland
REFRESH-INTERVAL;VALUE=DURATION:PT1H
X-Robots-Tag:noindex
X-PUBLISHED-TTL:PT1H
BEGIN:VTIMEZONE
TZID:America/Edmonton
BEGIN:DAYLIGHT
TZOFFSETFROM:-0700
TZOFFSETTO:-0600
TZNAME:MDT
DTSTART:20250309T090000
END:DAYLIGHT
BEGIN:STANDARD
TZOFFSETFROM:-0600
TZOFFSETTO:-0700
TZNAME:MST
DTSTART:20251102T080000
END:STANDARD
BEGIN:DAYLIGHT
TZOFFSETFROM:-0700
TZOFFSETTO:-0600
TZNAME:MDT
DTSTART:20260308T090000
END:DAYLIGHT
BEGIN:STANDARD
TZOFFSETFROM:-0600
TZOFFSETTO:-0700
TZNAME:MST
DTSTART:20261101T080000
END:STANDARD
BEGIN:DAYLIGHT
TZOFFSETFROM:-0700
TZOFFSETTO:-0600
TZNAME:MDT
DTSTART:20270314T090000
END:DAYLIGHT
BEGIN:STANDARD
TZOFFSETFROM:-0600
TZOFFSETTO:-0700
TZNAME:MST
DTSTART:20271107T080000
END:STANDARD
END:VTIMEZONE
BEGIN:VEVENT
DTSTART;TZID=America/Edmonton:20260603T190000
DTEND;TZID=America/Edmonton:20260603T210000
DTSTAMP:20260419T082334
CREATED:20260415T221556Z
LAST-MODIFIED:20260415T221556Z
UID:10000733-1780513200-1780520400@www.tourismrossland.com
SUMMARY:Tyson Ray Borsboom at B & T Hard Knock Cafe - Rossland BC
DESCRIPTION:🎶 Tyson Ray Borsboom (TRB) – Live in Rossland\n📍 B&T Hard Knock Cafe\n📍 Rossland\, BC\n🗓 Wednesday\, June 3\, 2026\n🕖 7:00 PM\nTyson Ray Borsboom (TRB) brings his Western Canada tour to Rossland for a laid-back evening of folk\, country\, and Americana at B&T Hard Knock Cafe.\nBased in Vancouver\, TRB has built his reputation through steady touring across Western Canada and a recent run of shows in Germany\, connecting with audiences through honest songwriting and a raw\, engaging live performance. His sound blends country roots with indie and alt influences\, delivering songs that feel both personal and familiar.\nTouring as a duo\, TRB is joined by Brayden Treble on lead guitar\, adding energy\, texture\, and a dynamic edge that brings the songs to life in an intimate setting.\nThis tour supports his upcoming full-length album\, These Days\, set for release June 5\, 2026 — a record centered around growth\, reflection\, and the moments that stay with you.\n🎟 Pay what you can\n🌐 More info & music: https://linktr.ee/tysonrayborsboom\nCome grab a bite\, settle in\, and enjoy a great night of live music 🤘
URL:https://www.tourismrossland.com/events/tyson-ray-borsboom-at-b-t-hard-knock-cafe-rossland-bc/
LOCATION:B&Ts Hard Knock Cafè\, 2024 Columbia Ave\, Rossland\, British Columbia\, V0G 1Y0\, Canada
ATTACH;FMTTYPE=image/png:https://www.tourismrossland.com/wp-content/uploads/2026/04/12.png
END:VEVENT
END:VCALENDAR