BEGIN:VCALENDAR
VERSION:2.0
PRODID:-//Tourism Rossland - ECPv6.15.12.2//NONSGML v1.0//EN
CALSCALE:GREGORIAN
METHOD:PUBLISH
X-WR-CALNAME:Tourism Rossland
X-ORIGINAL-URL:https://www.tourismrossland.com
X-WR-CALDESC:Events for Tourism Rossland
REFRESH-INTERVAL;VALUE=DURATION:PT1H
X-Robots-Tag:noindex
X-PUBLISHED-TTL:PT1H
BEGIN:VTIMEZONE
TZID:America/Edmonton
BEGIN:DAYLIGHT
TZOFFSETFROM:-0700
TZOFFSETTO:-0600
TZNAME:MDT
DTSTART:20250309T090000
END:DAYLIGHT
BEGIN:STANDARD
TZOFFSETFROM:-0600
TZOFFSETTO:-0700
TZNAME:MST
DTSTART:20251102T080000
END:STANDARD
BEGIN:DAYLIGHT
TZOFFSETFROM:-0700
TZOFFSETTO:-0600
TZNAME:MDT
DTSTART:20260308T090000
END:DAYLIGHT
BEGIN:STANDARD
TZOFFSETFROM:-0600
TZOFFSETTO:-0700
TZNAME:MST
DTSTART:20261101T080000
END:STANDARD
BEGIN:DAYLIGHT
TZOFFSETFROM:-0700
TZOFFSETTO:-0600
TZNAME:MDT
DTSTART:20270314T090000
END:DAYLIGHT
BEGIN:STANDARD
TZOFFSETFROM:-0600
TZOFFSETTO:-0700
TZNAME:MST
DTSTART:20271107T080000
END:STANDARD
END:VTIMEZONE
BEGIN:VEVENT
DTSTART;TZID=America/Edmonton:20260501T190000
DTEND;TZID=America/Edmonton:20260501T214500
DTSTAMP:20260421T132836
CREATED:20260421T160633Z
LAST-MODIFIED:20260421T160633Z
UID:10000736-1777662000-1777671900@www.tourismrossland.com
SUMMARY:Rock of Ages - presented by the Rossland Light Opera Players
DESCRIPTION:Let’s Rock!! \nCrank up the volume and let the RLOP whisk you back to the wild world of 1980s glam metal\, an era of sky‑high hair\, leather everything\, and Rock ’n’ Roll that shook the planet! Rock of Ages brings the decade roaring back in a Tony‑nominated musical bursting with your favourite anthems from Bon Jovi\, Journey\, Poison\, and more. Follow the outrageous\, heartwarming tale of a small‑town dreamer and a city boy as they band together to save the iconic Bourbon Room from ruthless developers who want to shut down the Sunset Strip’s rock scene for good. \nRated R for mature content – sex\, drugs & rock n’ roll. \nEach show will run approximately 2hrs 30m long\, with a 15 minute intermission. \nTickets to this show can be picked up at our box office starting one hour before the show. Or at the Bailey Theatre Box Office Monday to Friday between 12 – 4 pm. Box office opens 60 minutes before show time and theatre doors open 30 minutes before show time.
URL:https://www.tourismrossland.com/events/rock-of-ages-presented-by-the-rossland-light-opera-players-2/2026-05-01/
LOCATION:Bailey Theatre\, 1501 Cedar Avenue\, Trail\, British Columbia\, V1R 4C7\, Canada
ATTACH;FMTTYPE=image/png:https://www.tourismrossland.com/wp-content/uploads/2026/04/rlop-roa.png
END:VEVENT
BEGIN:VEVENT
DTSTART;TZID=America/Edmonton:20260502T190000
DTEND;TZID=America/Edmonton:20260502T214500
DTSTAMP:20260421T132836
CREATED:20260421T160633Z
LAST-MODIFIED:20260421T160633Z
UID:10000737-1777748400-1777758300@www.tourismrossland.com
SUMMARY:Rock of Ages - presented by the Rossland Light Opera Players
DESCRIPTION:Let’s Rock!! \nCrank up the volume and let the RLOP whisk you back to the wild world of 1980s glam metal\, an era of sky‑high hair\, leather everything\, and Rock ’n’ Roll that shook the planet! Rock of Ages brings the decade roaring back in a Tony‑nominated musical bursting with your favourite anthems from Bon Jovi\, Journey\, Poison\, and more. Follow the outrageous\, heartwarming tale of a small‑town dreamer and a city boy as they band together to save the iconic Bourbon Room from ruthless developers who want to shut down the Sunset Strip’s rock scene for good. \nRated R for mature content – sex\, drugs & rock n’ roll. \nEach show will run approximately 2hrs 30m long\, with a 15 minute intermission. \nTickets to this show can be picked up at our box office starting one hour before the show. Or at the Bailey Theatre Box Office Monday to Friday between 12 – 4 pm. Box office opens 60 minutes before show time and theatre doors open 30 minutes before show time.
URL:https://www.tourismrossland.com/events/rock-of-ages-presented-by-the-rossland-light-opera-players-2/2026-05-02/
LOCATION:Bailey Theatre\, 1501 Cedar Avenue\, Trail\, British Columbia\, V1R 4C7\, Canada
ATTACH;FMTTYPE=image/png:https://www.tourismrossland.com/wp-content/uploads/2026/04/rlop-roa.png
END:VEVENT
END:VCALENDAR