BEGIN:VCALENDAR
VERSION:2.0
PRODID:-//Tourism Rossland - ECPv6.15.12.2//NONSGML v1.0//EN
CALSCALE:GREGORIAN
METHOD:PUBLISH
X-WR-CALNAME:Tourism Rossland
X-ORIGINAL-URL:https://www.tourismrossland.com
X-WR-CALDESC:Events for Tourism Rossland
REFRESH-INTERVAL;VALUE=DURATION:PT1H
X-Robots-Tag:noindex
X-PUBLISHED-TTL:PT1H
BEGIN:VTIMEZONE
TZID:America/Edmonton
BEGIN:DAYLIGHT
TZOFFSETFROM:-0700
TZOFFSETTO:-0600
TZNAME:MDT
DTSTART:20250309T090000
END:DAYLIGHT
BEGIN:STANDARD
TZOFFSETFROM:-0600
TZOFFSETTO:-0700
TZNAME:MST
DTSTART:20251102T080000
END:STANDARD
BEGIN:DAYLIGHT
TZOFFSETFROM:-0700
TZOFFSETTO:-0600
TZNAME:MDT
DTSTART:20260308T090000
END:DAYLIGHT
BEGIN:STANDARD
TZOFFSETFROM:-0600
TZOFFSETTO:-0700
TZNAME:MST
DTSTART:20261101T080000
END:STANDARD
BEGIN:DAYLIGHT
TZOFFSETFROM:-0700
TZOFFSETTO:-0600
TZNAME:MDT
DTSTART:20270314T090000
END:DAYLIGHT
BEGIN:STANDARD
TZOFFSETFROM:-0600
TZOFFSETTO:-0700
TZNAME:MST
DTSTART:20271107T080000
END:STANDARD
END:VTIMEZONE
BEGIN:VEVENT
DTSTART;TZID=America/Edmonton:20260517T110000
DTEND;TZID=America/Edmonton:20260517T180000
DTSTAMP:20260421T154826
CREATED:20260421T192738Z
LAST-MODIFIED:20260421T192738Z
UID:10000744-1779015600-1779040800@www.tourismrossland.com
SUMMARY:The Poetic Body with Larval Mask Worshop with Elaine Weryshko
DESCRIPTION:Looking for something fun to do this May long weekend? The Rossland Council for Arts and Culture is excited to present The Poetic Body with Larval Mask Workshop\, led by Winlaw resident Elaine Weryshko! \nEnter the strange\, simple\, and magnetic world of Larval Masks. Rooted from the winter carnival of Basel\, Switzerland and reimagined by Jacques Lecoq\, these oversized\, beginnings of life masks are a gateway to embodiment\, archetype\, non-verbal storytelling and dream space. This is physical poetry\, where breath\, stillness\, and silhouette speak louder than words.
URL:https://www.tourismrossland.com/events/the-poetic-body-with-larval-mask-worshop-with-elaine-weryshko/2026-05-17/
LOCATION:Lily May Room\, 1765 Columbia Ave\, Rossland\, BC\, V0G 1Y0\, Canada
ATTACH;FMTTYPE=image/jpeg:https://www.tourismrossland.com/wp-content/uploads/2026/04/img_9673-copy-scaled.jpeg
ORGANIZER;CN="Rossland Council for Arts &amp%3B Culture":MAILTO:info@rosslandartscouncil.com
END:VEVENT
BEGIN:VEVENT
DTSTART;TZID=America/Edmonton:20260523T201500
DTEND;TZID=America/Edmonton:20260523T230000
DTSTAMP:20260421T154826
CREATED:20260421T192718Z
LAST-MODIFIED:20260421T192718Z
UID:10000742-1779567300-1779577200@www.tourismrossland.com
SUMMARY:Tonye Aganaba
DESCRIPTION:After having to cancel their performance in Rossland during Blizzard Music Festival 2026\, we have some amazing news: Tonye Aganaba is officially coming to Rossland this May to play in the RCAC’s new series\, May Music & More! \nTonye Aganaba is a Black African queer\, disabled and non-binary immigrant and uninvited settler living on the unceded ancestral territories of the Musqueam\, Squamish & Tsleil-Waututh First Nations.
URL:https://www.tourismrossland.com/events/tonye-aganaba-2/
LOCATION:The Miners Hall\, 1765 Columbia Ave\, Rossland\, BC\, V0G 1Y0\, Canada
ATTACH;FMTTYPE=image/jpeg:https://www.tourismrossland.com/wp-content/uploads/2026/04/tonye-low-res-1.jpg
ORGANIZER;CN="Rossland Council for Arts &amp%3B Culture":MAILTO:info@rosslandartscouncil.com
END:VEVENT
BEGIN:VEVENT
DTSTART;TZID=America/Edmonton:20260529T200000
DTEND;TZID=America/Edmonton:20260529T223000
DTSTAMP:20260421T154826
CREATED:20260421T192656Z
LAST-MODIFIED:20260421T192656Z
UID:10000741-1780084800-1780093800@www.tourismrossland.com
SUMMARY:Cara Luft
DESCRIPTION:Juno award winning singer-songwriter-musician Cara Luft is one of Canada’s most respected and beloved singer-songwriters\, makes a long-anticipated return with a joyful solo album –– her first in over 13 years. Known for her warmth\, authenticity and exceptional musicianship\, Luft has won awards and amassed legions of fans captivated by her talent for pairing heart-on-your-sleeve lyricism with indelible ear-catching melodies. Her new album\, My Heart Will Always Be\, is her most assured and personal work to date\, reaffirming her legacy as an essential voice in folk music.
URL:https://www.tourismrossland.com/events/cara-luft/
LOCATION:The Miners Hall\, 1765 Columbia Ave\, Rossland\, BC\, V0G 1Y0\, Canada
ATTACH;FMTTYPE=image/gif:https://www.tourismrossland.com/wp-content/uploads/2026/04/image_test-1-scaled.gif
ORGANIZER;CN="Rossland Council for Arts &amp%3B Culture":MAILTO:info@rosslandartscouncil.com
END:VEVENT
BEGIN:VEVENT
DTSTART;TZID=America/Edmonton:20260603T190000
DTEND;TZID=America/Edmonton:20260603T210000
DTSTAMP:20260421T154826
CREATED:20260415T221556Z
LAST-MODIFIED:20260415T221556Z
UID:10000733-1780513200-1780520400@www.tourismrossland.com
SUMMARY:Tyson Ray Borsboom at B & T Hard Knock Cafe - Rossland BC
DESCRIPTION:🎶 Tyson Ray Borsboom (TRB) – Live in Rossland\n📍 B&T Hard Knock Cafe\n📍 Rossland\, BC\n🗓 Wednesday\, June 3\, 2026\n🕖 7:00 PM\nTyson Ray Borsboom (TRB) brings his Western Canada tour to Rossland for a laid-back evening of folk\, country\, and Americana at B&T Hard Knock Cafe.\nBased in Vancouver\, TRB has built his reputation through steady touring across Western Canada and a recent run of shows in Germany\, connecting with audiences through honest songwriting and a raw\, engaging live performance. His sound blends country roots with indie and alt influences\, delivering songs that feel both personal and familiar.\nTouring as a duo\, TRB is joined by Brayden Treble on lead guitar\, adding energy\, texture\, and a dynamic edge that brings the songs to life in an intimate setting.\nThis tour supports his upcoming full-length album\, These Days\, set for release June 5\, 2026 — a record centered around growth\, reflection\, and the moments that stay with you.\n🎟 Pay what you can\n🌐 More info & music: https://linktr.ee/tysonrayborsboom\nCome grab a bite\, settle in\, and enjoy a great night of live music 🤘
URL:https://www.tourismrossland.com/events/tyson-ray-borsboom-at-b-t-hard-knock-cafe-rossland-bc/
LOCATION:B&Ts Hard Knock Cafè\, 2024 Columbia Ave\, Rossland\, British Columbia\, V0G 1Y0\, Canada
ATTACH;FMTTYPE=image/png:https://www.tourismrossland.com/wp-content/uploads/2026/04/12.png
END:VEVENT
BEGIN:VEVENT
DTSTART;TZID=America/Edmonton:20260904T120000
DTEND;TZID=America/Edmonton:20260906T230000
DTSTAMP:20260421T154826
CREATED:20260313T150842Z
LAST-MODIFIED:20260313T153609Z
UID:10000713-1788523200-1788735600@www.tourismrossland.com
SUMMARY:Into the Trees Music Festival
DESCRIPTION:Into The Trees is back for year 2! \nRunning September Long Weekend\, September 4th – 6th\, at The Ram’s Head Inn. \nFeaturing Headliner’s Elliott BROOD + many more artists to be announced. \nWeekend Early Bird Passes – $199\nWeekend Passes – $249 \nMusic Festival 5pm-11pm Nightly – Must be 19+ \nDay Time Beer Festival with Live Music (12-4pm) \n$10 Entry\, Free For Weekend Pass Holders\, Subject To Capacity \nKids Free (Permitted 12-4pm) \, Subject To Capacity. \nNo Re Entry During Day Time Beer & Cider Event (12-4pm) \nFor tickets click here.
URL:https://www.tourismrossland.com/events/into-the-trees-music-festival/
LOCATION:Rams Head Inn\, 4465 Old Red Mountain Rd.\,\, Rossland\, BC\, V0G 1Y0\, Canada
ATTACH;FMTTYPE=image/png:https://www.tourismrossland.com/wp-content/uploads/2026/03/into-the-trees-poster-v2.png
ORGANIZER;CN="The Flying Steamshovel":MAILTO:manager@theflyingsteamshovel.com
END:VEVENT
END:VCALENDAR